BEGIN:VCALENDAR
VERSION:2.0
PRODID:SchoolNow
CALSCALE:GREGORIAN
BEGIN:VEVENT
UID:8f99042a-9017-11f0-aaa6-0a58a9feac02
DTSTAMP:20250912T203314Z
SUMMARY:Parent Presentation: Bullying vs. Personal Conflicts
URL;VALUE=URI:https://www.arbor145.org/aes/calendar/8615305/parent-presenta
 tion-bullying-vs-personal-conflicts
DTSTART:20251009T230000Z
DTEND:20251010T003000Z
END:VEVENT
END:VCALENDAR
