BEGIN:VCALENDAR
VERSION:2.0
PRODID:SchoolNow
CALSCALE:GREGORIAN
BEGIN:VEVENT
UID:fb2871f6-1fbf-11ed-9c7f-0ed7231d63bb
DTSTAMP:20220819T130813Z
SUMMARY:Device Pick-up and Locker Prep
URL;VALUE=URI:https://www.arbor145.org/apms/calendar/3288152/device-pick-up
 -and-locker-prep
DTSTART:20220811T200000Z
DTEND:20220812T000000Z
END:VEVENT
END:VCALENDAR
