BEGIN:VCALENDAR
VERSION:2.0
PRODID:SchoolNow
CALSCALE:GREGORIAN
BEGIN:VEVENT
UID:2f19695c-1fc0-11ed-b902-0ed7231d63bb
DTSTAMP:20220819T130940Z
SUMMARY:5th and 6th Grade Expectation Night
URL;VALUE=URI:https://www.arbor145.org/apms/calendar/3288153/5th-and-6th-gr
 ade-expectation-night
DTSTART:20220825T213000Z
DTEND:20220825T230000Z
END:VEVENT
END:VCALENDAR
