BEGIN:VCALENDAR
VERSION:2.0
PRODID:SchoolNow
CALSCALE:GREGORIAN
BEGIN:VEVENT
UID:262ddc44-32c9-11ed-a678-02c882674505
DTSTAMP:20220912T183142Z
SUMMARY:Test Event
URL;VALUE=URI:https://www.arbor145.org/apms/calendar/3380387/test-event
DTSTART:20230301T213000Z
DTEND:20230301T223000Z
END:VEVENT
END:VCALENDAR
