BEGIN:VCALENDAR
VERSION:2.0
PRODID:SchoolNow
CALSCALE:GREGORIAN
BEGIN:VEVENT
UID:f3fc3d4e-377f-11ee-8e91-0a58a9feac02
DTSTAMP:20230810T131518Z
SUMMARY:Volleyball Camp
URL;VALUE=URI:https://www.arbor145.org/apms/calendar/4562831/volleyball-cam
 p
DTSTART:20230814T150000Z
DTEND:20230817T180000Z
END:VEVENT
END:VCALENDAR
