BEGIN:VCALENDAR
VERSION:2.0
PRODID:SchoolNow
CALSCALE:GREGORIAN
BEGIN:VEVENT
UID:cee44210-45c4-11ee-9a7c-0ed704be5849
DTSTAMP:20230912T163237Z
SUMMARY:Creative Writing Club
LOCATION:Rm A025\; Door 4 for 3pm parent pick-up.
URL;VALUE=URI:https://www.arbor145.org/apms/calendar/4641616/creative-writi
 ng-club
DTSTART:20230925T193000Z
DTEND:20230925T200000Z
END:VEVENT
END:VCALENDAR
