BEGIN:VCALENDAR
VERSION:2.0
PRODID:SchoolNow
CALSCALE:GREGORIAN
BEGIN:VEVENT
UID:744df420-45c6-11ee-a8d7-0a58a9feac02
DTSTAMP:20230828T180613Z
SUMMARY:Creative Writing Club
LOCATION:Rm A025\; Door 4 for 3pm parent pick-up.
URL;VALUE=URI:https://www.arbor145.org/apms/calendar/4641910/creative-writi
 ng-club
DTSTART:20231010T193000Z
DTEND:20231010T200000Z
END:VEVENT
END:VCALENDAR
