BEGIN:VCALENDAR
VERSION:2.0
PRODID:SchoolNow
CALSCALE:GREGORIAN
BEGIN:VEVENT
UID:0f56e75a-45cd-11ee-9096-0abb20ff8b43
DTSTAMP:20230828T180642Z
SUMMARY:Creative Writing Club
LOCATION:Rm A025\; Door 4 for 3pm parent pick-up.
URL;VALUE=URI:https://www.arbor145.org/apms/calendar/4643585/creative-writi
 ng-club
DTSTART:20231024T193000Z
DTEND:20231024T200000Z
END:VEVENT
END:VCALENDAR
