BEGIN:VCALENDAR
VERSION:2.0
PRODID:SchoolNow
CALSCALE:GREGORIAN
BEGIN:VEVENT
UID:f550fffc-45cd-11ee-9a69-0a58a9feac02
DTSTAMP:20230921T201853Z
SUMMARY:Creative Writing Club
LOCATION:Rm A025\; Door 4 for 3pm parent pick-up.
URL;VALUE=URI:https://www.arbor145.org/apms/calendar/4643587/creative-writi
 ng
DTSTART:20231205T203000Z
DTEND:20231205T210000Z
END:VEVENT
END:VCALENDAR
