BEGIN:VCALENDAR
VERSION:2.0
PRODID:SchoolNow
CALSCALE:GREGORIAN
BEGIN:VEVENT
UID:59e403a6-45ce-11ee-bf4e-0a58a9feac02
DTSTAMP:20230921T201909Z
SUMMARY:Creative Writing Club
LOCATION:Rm A025\; Door 4 for 3pm parent pick-up.
URL;VALUE=URI:https://www.arbor145.org/apms/calendar/4643588/creative-writi
 ng-clone
DTSTART:20231219T203000Z
DTEND:20231219T210000Z
END:VEVENT
END:VCALENDAR
