BEGIN:VCALENDAR
VERSION:2.0
PRODID:SchoolNow
CALSCALE:GREGORIAN
BEGIN:VEVENT
UID:6f071aca-45ce-11ee-b9dd-0e4c9f6fe681
DTSTAMP:20230921T201930Z
SUMMARY:Creative Writing Club
LOCATION:Rm A025\; Door 4 for 3pm parent pick-up.
URL;VALUE=URI:https://www.arbor145.org/apms/calendar/4643589/creative-writi
 ng-clone-clone
DTSTART:20240116T203000Z
DTEND:20240116T210000Z
END:VEVENT
END:VCALENDAR
