BEGIN:VCALENDAR
VERSION:2.0
PRODID:SchoolNow
CALSCALE:GREGORIAN
BEGIN:VEVENT
UID:7beb7cd6-45ce-11ee-b225-0a58a9feac02
DTSTAMP:20230828T181243Z
SUMMARY:Creative Writing Club
LOCATION:Rm A025\; Door 4 for 3pm parent pick-up.
URL;VALUE=URI:https://www.arbor145.org/apms/calendar/4643590/creative-writi
 ng-club-clone
DTSTART:20240130T203000Z
DTEND:20240130T210000Z
END:VEVENT
END:VCALENDAR
