BEGIN:VCALENDAR
VERSION:2.0
PRODID:SchoolNow
CALSCALE:GREGORIAN
BEGIN:VEVENT
UID:88a6ad92-45ce-11ee-94ad-0ed704be5849
DTSTAMP:20230828T181305Z
SUMMARY:Creative Writing Club
LOCATION:Rm A025\; Door 4 for 3pm parent pick-up.
URL;VALUE=URI:https://www.arbor145.org/apms/calendar/4643591/creative-writi
 ng-club-clone
DTSTART:20240213T203000Z
DTEND:20240213T210000Z
END:VEVENT
END:VCALENDAR
