BEGIN:VCALENDAR
VERSION:2.0
PRODID:SchoolNow
CALSCALE:GREGORIAN
BEGIN:VEVENT
UID:d7988b1e-45ce-11ee-af41-027036ee8449
DTSTAMP:20230828T181517Z
SUMMARY:Creative Writing Club
LOCATION:Rm A025\; Door 4 for 3pm parent pick-up.
URL;VALUE=URI:https://www.arbor145.org/apms/calendar/4643593/creative-writi
 ng-club-clone-clone
DTSTART:20240312T193000Z
DTEND:20240312T200000Z
END:VEVENT
END:VCALENDAR
