BEGIN:VCALENDAR
VERSION:2.0
PRODID:SchoolNow
CALSCALE:GREGORIAN
BEGIN:VEVENT
UID:058da4d2-45cf-11ee-aadc-0a58a9feac02
DTSTAMP:20230828T181634Z
SUMMARY:Creative Writing Club
LOCATION:Rm A025\; Door 4 for 3pm parent pick-up.
URL;VALUE=URI:https://www.arbor145.org/apms/calendar/4643595/creative-writi
 ng-club-clone
DTSTART:20240409T193000Z
DTEND:20240409T200000Z
END:VEVENT
END:VCALENDAR
