BEGIN:VCALENDAR
VERSION:2.0
PRODID:SchoolNow
CALSCALE:GREGORIAN
BEGIN:VEVENT
UID:1395d432-45cf-11ee-adbd-0e5a7ad4091b
DTSTAMP:20230828T181658Z
SUMMARY:Creative Writing Club
LOCATION:Rm A025\; Door 4 for 3pm parent pick-up.
URL;VALUE=URI:https://www.arbor145.org/apms/calendar/4643596/creative-writi
 ng-club-clone
DTSTART:20240423T193000Z
DTEND:20240423T200000Z
END:VEVENT
END:VCALENDAR
