BEGIN:VCALENDAR
VERSION:2.0
PRODID:SchoolNow
CALSCALE:GREGORIAN
BEGIN:VEVENT
UID:234a4dea-45cf-11ee-ac59-0ed704be5849
DTSTAMP:20230828T181724Z
SUMMARY:Creative Writing Club
LOCATION:Rm A025\; Door 4 for 3pm parent pick-up.
URL;VALUE=URI:https://www.arbor145.org/apms/calendar/4643597/creative-writi
 ng-club-clone
DTSTART:20240514T193000Z
DTEND:20240514T200000Z
END:VEVENT
END:VCALENDAR
