BEGIN:VCALENDAR
VERSION:2.0
PRODID:SchoolNow
CALSCALE:GREGORIAN
BEGIN:VEVENT
UID:1c82bf2a-518b-11ee-acb3-0a58a9feac02
DTSTAMP:20230912T164041Z
SUMMARY:Creative Writing Club
LOCATION:A025\; Pick-Up by Door 4.
URL;VALUE=URI:https://www.arbor145.org/apms/calendar/4723382/creative-writi
 ng-club
DTSTART:20231107T203000Z
DTEND:20231107T210000Z
END:VEVENT
END:VCALENDAR
