BEGIN:VCALENDAR
VERSION:2.0
PRODID:SchoolNow
CALSCALE:GREGORIAN
BEGIN:VEVENT
UID:379b7b6a-53ef-11ee-99f0-0a959632f283
DTSTAMP:20230919T154313Z
SUMMARY:Gaming Club (B)
LOCATION:APMS A039
URL;VALUE=URI:https://www.arbor145.org/apms/calendar/4743168/gaming-club-b
DTSTART:20230928T193000Z
DTEND:20230928T204500Z
END:VEVENT
END:VCALENDAR
