BEGIN:VCALENDAR
VERSION:2.0
PRODID:SchoolNow
CALSCALE:GREGORIAN
BEGIN:VEVENT
UID:5616877e-53ef-11ee-8e76-023852d1cdef
DTSTAMP:20230915T174310Z
SUMMARY:Gaming club (B)
LOCATION:A039
URL;VALUE=URI:https://www.arbor145.org/apms/calendar/4743169/gaming-club-b
DTSTART:20231005T193000Z
DTEND:20231005T204500Z
END:VEVENT
END:VCALENDAR
