BEGIN:VCALENDAR
VERSION:2.0
PRODID:SchoolNow
CALSCALE:GREGORIAN
BEGIN:VEVENT
UID:86b83dbe-53ef-11ee-bf62-0a959632f283
DTSTAMP:20230915T174431Z
SUMMARY:Gaming Club (b)
LOCATION:APMS A039
URL;VALUE=URI:https://www.arbor145.org/apms/calendar/4743170/gaming-club-b
DTSTART:20231019T193000Z
DTEND:20231019T204500Z
END:VEVENT
END:VCALENDAR
