BEGIN:VCALENDAR
VERSION:2.0
PRODID:SchoolNow
CALSCALE:GREGORIAN
BEGIN:VEVENT
UID:a535fdb2-53ef-11ee-a111-0a58a9feac02
DTSTAMP:20230915T174522Z
SUMMARY:Gaming Club (B)
LOCATION:APMS A039
URL;VALUE=URI:https://www.arbor145.org/apms/calendar/4743171/gaming-club-b
DTSTART:20231109T203000Z
DTEND:20231109T214500Z
END:VEVENT
END:VCALENDAR
