BEGIN:VCALENDAR
VERSION:2.0
PRODID:SchoolNow
CALSCALE:GREGORIAN
BEGIN:VEVENT
UID:e2d5d14c-53ef-11ee-9bda-0a58a9feac02
DTSTAMP:20230915T174706Z
SUMMARY:Gaming Club (B)
LOCATION:APMS A039
URL;VALUE=URI:https://www.arbor145.org/apms/calendar/4743172/gaming-club-b
DTSTART:20231130T203000Z
DTEND:20231130T214500Z
END:VEVENT
END:VCALENDAR
