BEGIN:VCALENDAR
VERSION:2.0
PRODID:SchoolNow
CALSCALE:GREGORIAN
BEGIN:VEVENT
UID:12b40636-53f0-11ee-9ced-0e735600cc31
DTSTAMP:20230915T174826Z
SUMMARY:Gaming Club (B)
LOCATION:APMS A039
URL;VALUE=URI:https://www.arbor145.org/apms/calendar/4743173/gaming-club-b
DTSTART:20231207T203000Z
DTEND:20231207T214500Z
END:VEVENT
END:VCALENDAR
