BEGIN:VCALENDAR
VERSION:2.0
PRODID:SchoolNow
CALSCALE:GREGORIAN
BEGIN:VEVENT
UID:27d20aa4-53f0-11ee-b0a0-0e735600cc31
DTSTAMP:20230915T174902Z
SUMMARY:Gaming Club (B)
LOCATION:APMS A039
URL;VALUE=URI:https://www.arbor145.org/apms/calendar/4743174/gaming-club-b
DTSTART:20231214T203000Z
DTEND:20231214T214500Z
END:VEVENT
END:VCALENDAR
