BEGIN:VCALENDAR
VERSION:2.0
PRODID:SchoolNow
CALSCALE:GREGORIAN
BEGIN:VEVENT
UID:3e4eef54-53f0-11ee-87f2-0a959632f283
DTSTAMP:20230915T174939Z
SUMMARY:Gaming Club (B)
LOCATION:APMS A039
URL;VALUE=URI:https://www.arbor145.org/apms/calendar/4743175/gaming-club-b
DTSTART:20240118T203000Z
DTEND:20240118T214500Z
END:VEVENT
END:VCALENDAR
