BEGIN:VCALENDAR
VERSION:2.0
PRODID:SchoolNow
CALSCALE:GREGORIAN
BEGIN:VEVENT
UID:6fc10432-53f0-11ee-ae33-0ea8776c1f05
DTSTAMP:20230915T175102Z
SUMMARY:Gaming Club (B)
LOCATION:APMS A039
URL;VALUE=URI:https://www.arbor145.org/apms/calendar/4743177/gaming-club-b
DTSTART:20240125T203000Z
DTEND:20240125T214500Z
END:VEVENT
END:VCALENDAR
