BEGIN:VCALENDAR
VERSION:2.0
PRODID:SchoolNow
CALSCALE:GREGORIAN
BEGIN:VEVENT
UID:9923bdc4-53f0-11ee-b502-0e735600cc31
DTSTAMP:20230915T175212Z
SUMMARY:Gaming Club (B)
LOCATION:APMS A039
URL;VALUE=URI:https://www.arbor145.org/apms/calendar/4743178/gaming-club-b
DTSTART:20240201T203000Z
DTEND:20240201T214500Z
END:VEVENT
END:VCALENDAR
