BEGIN:VCALENDAR
VERSION:2.0
PRODID:SchoolNow
CALSCALE:GREGORIAN
BEGIN:VEVENT
UID:ca314328-53f0-11ee-81d6-0a58a9feac02
DTSTAMP:20230915T175334Z
SUMMARY:Gaming Club (B)
LOCATION:APMS A039
URL;VALUE=URI:https://www.arbor145.org/apms/calendar/4743179/gaming-club-b
DTSTART:20240215T203000Z
DTEND:20240215T214500Z
END:VEVENT
END:VCALENDAR
