BEGIN:VCALENDAR
VERSION:2.0
PRODID:SchoolNow
CALSCALE:GREGORIAN
BEGIN:VEVENT
UID:004f19d0-53f1-11ee-bbfe-023852d1cdef
DTSTAMP:20230915T175505Z
SUMMARY:Gaming Club (B)
LOCATION:APMS A039
URL;VALUE=URI:https://www.arbor145.org/apms/calendar/4743180/gaming-club-b
DTSTART:20240314T193000Z
DTEND:20240314T204500Z
END:VEVENT
END:VCALENDAR
