BEGIN:VCALENDAR
VERSION:2.0
PRODID:SchoolNow
CALSCALE:GREGORIAN
BEGIN:VEVENT
UID:69757620-53f1-11ee-b26e-02774828289f
DTSTAMP:20230915T175801Z
SUMMARY:Gaming Club (B)
LOCATION:APMS A039
URL;VALUE=URI:https://www.arbor145.org/apms/calendar/4743182/gaming-club-b
DTSTART:20240321T193000Z
DTEND:20240321T204500Z
END:VEVENT
END:VCALENDAR
