BEGIN:VCALENDAR
VERSION:2.0
PRODID:SchoolNow
CALSCALE:GREGORIAN
BEGIN:VEVENT
UID:9d04a1fa-53f1-11ee-a485-0a58a9feac02
DTSTAMP:20230915T175928Z
SUMMARY:Gaming Club (B)
LOCATION:APMS A039
URL;VALUE=URI:https://www.arbor145.org/apms/calendar/4743183/gaming-club-b
DTSTART:20240411T193000Z
DTEND:20240411T204500Z
END:VEVENT
END:VCALENDAR
