BEGIN:VCALENDAR
VERSION:2.0
PRODID:SchoolNow
CALSCALE:GREGORIAN
BEGIN:VEVENT
UID:d18672dc-53f1-11ee-b776-0e6120933f63
DTSTAMP:20230915T180056Z
SUMMARY:Gaming Club (B)
LOCATION:APMS A039
URL;VALUE=URI:https://www.arbor145.org/apms/calendar/4743184/gaming-club-b
DTSTART:20240425T193000Z
DTEND:20240425T204500Z
END:VEVENT
END:VCALENDAR
