BEGIN:VCALENDAR
VERSION:2.0
PRODID:SchoolNow
CALSCALE:GREGORIAN
BEGIN:VEVENT
UID:448ed788-53f2-11ee-9a66-025a290185c1
DTSTAMP:20230915T180409Z
SUMMARY:Gaming Club (B)
LOCATION:APMS A039
URL;VALUE=URI:https://www.arbor145.org/apms/calendar/4743186/gaming-club-b
DTSTART:20240509T193000Z
DTEND:20240509T204500Z
END:VEVENT
END:VCALENDAR
