BEGIN:VCALENDAR
VERSION:2.0
PRODID:SchoolNow
CALSCALE:GREGORIAN
BEGIN:VEVENT
UID:b1fd48ea-53f2-11ee-a6dd-0a58a9feac02
DTSTAMP:20230915T180712Z
SUMMARY:Gaming Club (B)
LOCATION:APMS A039
URL;VALUE=URI:https://www.arbor145.org/apms/calendar/4743187/gaming-club-b
DTSTART:20240516T193000Z
DTEND:20240516T204500Z
END:VEVENT
END:VCALENDAR
