BEGIN:VCALENDAR
VERSION:2.0
PRODID:SchoolNow
CALSCALE:GREGORIAN
BEGIN:VEVENT
UID:5a71d62e-5657-11ee-bbde-0a58a9feac02
DTSTAMP:20230918T191247Z
SUMMARY:Kindness Club Informational Meeting
URL;VALUE=URI:https://www.arbor145.org/apms/calendar/4754925/kindness-club-
 informational-meeting
DTSTART:20230918T193000Z
DTEND:20230918T200000Z
END:VEVENT
END:VCALENDAR
