BEGIN:VCALENDAR
VERSION:2.0
PRODID:SchoolNow
CALSCALE:GREGORIAN
BEGIN:VEVENT
UID:9bcdcd62-5657-11ee-8f2e-0a58a9feac02
DTSTAMP:20230918T191709Z
SUMMARY:Kindness Club
LOCATION:A139
URL;VALUE=URI:https://www.arbor145.org/apms/calendar/4754926/kindness-club
DTSTART:20230925T193000Z
DTEND:20230925T204000Z
END:VEVENT
END:VCALENDAR
