BEGIN:VCALENDAR
VERSION:2.0
PRODID:SchoolNow
CALSCALE:GREGORIAN
BEGIN:VEVENT
UID:d21fdc98-5657-11ee-9fd1-0aab678d0845
DTSTAMP:20230918T191608Z
SUMMARY:Kindness Club
LOCATION:A139
URL;VALUE=URI:https://www.arbor145.org/apms/calendar/4754927/kindness-club
DTSTART:20231016T193000Z
DTEND:20231016T204000Z
END:VEVENT
END:VCALENDAR
