BEGIN:VCALENDAR
VERSION:2.0
PRODID:SchoolNow
CALSCALE:GREGORIAN
BEGIN:VEVENT
UID:1cc2b630-5658-11ee-b8b6-0e735600cc31
DTSTAMP:20230918T191813Z
SUMMARY:Kindness Club
LOCATION:A139
URL;VALUE=URI:https://www.arbor145.org/apms/calendar/4754928/kindness-club
DTSTART:20231030T193000Z
DTEND:20231030T204000Z
END:VEVENT
END:VCALENDAR
