BEGIN:VCALENDAR
VERSION:2.0
PRODID:SchoolNow
CALSCALE:GREGORIAN
BEGIN:VEVENT
UID:360dab9a-5658-11ee-a6f7-0a959632f283
DTSTAMP:20230918T191855Z
SUMMARY:Science Club
LOCATION:APMS A132
URL;VALUE=URI:https://www.arbor145.org/apms/calendar/4754929/science-club
DTSTART:20231024T193000Z
DTEND:20231024T201500Z
END:VEVENT
END:VCALENDAR
