BEGIN:VCALENDAR
VERSION:2.0
PRODID:SchoolNow
CALSCALE:GREGORIAN
BEGIN:VEVENT
UID:3fb8fb86-5658-11ee-bbdf-02774828289f
DTSTAMP:20230918T191912Z
SUMMARY:Kindness Club
LOCATION:A139
URL;VALUE=URI:https://www.arbor145.org/apms/calendar/4754930/kindness-club
DTSTART:20231113T203000Z
DTEND:20231113T214000Z
END:VEVENT
END:VCALENDAR
