BEGIN:VCALENDAR
VERSION:2.0
PRODID:SchoolNow
CALSCALE:GREGORIAN
BEGIN:VEVENT
UID:6349b9f0-5658-11ee-a0a1-0a959632f283
DTSTAMP:20230918T192011Z
SUMMARY:Science Club
LOCATION:APMS A132
URL;VALUE=URI:https://www.arbor145.org/apms/calendar/4754931/science-club
DTSTART:20231114T203000Z
DTEND:20231114T211500Z
END:VEVENT
END:VCALENDAR
