BEGIN:VCALENDAR
VERSION:2.0
PRODID:SchoolNow
CALSCALE:GREGORIAN
BEGIN:VEVENT
UID:7bb9195e-5658-11ee-8d7d-0292f1505fe5
DTSTAMP:20230918T192052Z
SUMMARY:Science Club
LOCATION:APMS A132
URL;VALUE=URI:https://www.arbor145.org/apms/calendar/4754932/science-club
DTSTART:20231205T203000Z
DTEND:20231205T211500Z
END:VEVENT
END:VCALENDAR
