BEGIN:VCALENDAR
VERSION:2.0
PRODID:SchoolNow
CALSCALE:GREGORIAN
BEGIN:VEVENT
UID:7e4712ca-5658-11ee-bcd7-0a58a9feac02
DTSTAMP:20230918T192057Z
SUMMARY:Kindness Club
LOCATION:A139
URL;VALUE=URI:https://www.arbor145.org/apms/calendar/4754933/kindness-club
DTSTART:20231127T203000Z
DTEND:20231127T214000Z
END:VEVENT
END:VCALENDAR
