BEGIN:VCALENDAR
VERSION:2.0
PRODID:SchoolNow
CALSCALE:GREGORIAN
BEGIN:VEVENT
UID:9c1aacc6-5658-11ee-a5b3-0aab678d0845
DTSTAMP:20230918T192147Z
SUMMARY:Kindness Club
LOCATION:A139
URL;VALUE=URI:https://www.arbor145.org/apms/calendar/4754934/kindness-club
DTSTART:20231204T203000Z
DTEND:20231204T214000Z
END:VEVENT
END:VCALENDAR
