BEGIN:VCALENDAR
VERSION:2.0
PRODID:SchoolNow
CALSCALE:GREGORIAN
BEGIN:VEVENT
UID:b6075a4e-5658-11ee-ae6f-0ea8776c1f05
DTSTAMP:20230918T192230Z
SUMMARY:Kindness Club
LOCATION:A139
URL;VALUE=URI:https://www.arbor145.org/apms/calendar/4754936/kindness-club
DTSTART:20231211T203000Z
DTEND:20231211T214000Z
END:VEVENT
END:VCALENDAR
