BEGIN:VCALENDAR
VERSION:2.0
PRODID:SchoolNow
CALSCALE:GREGORIAN
BEGIN:VEVENT
UID:c3e9eed8-5658-11ee-abcd-025a290185c1
DTSTAMP:20230918T192253Z
SUMMARY:Science Club
LOCATION:APMS A132
URL;VALUE=URI:https://www.arbor145.org/apms/calendar/4754937/science-club
DTSTART:20240116T203000Z
DTEND:20240116T211500Z
END:VEVENT
END:VCALENDAR
