BEGIN:VCALENDAR
VERSION:2.0
PRODID:SchoolNow
CALSCALE:GREGORIAN
BEGIN:VEVENT
UID:db6e266e-5658-11ee-99c5-0a58a9feac02
DTSTAMP:20230918T192333Z
SUMMARY:Science Club
LOCATION:APMS A132
URL;VALUE=URI:https://www.arbor145.org/apms/calendar/4754938/science-club
DTSTART:20240130T203000Z
DTEND:20240130T211500Z
END:VEVENT
END:VCALENDAR
