BEGIN:VCALENDAR
VERSION:2.0
PRODID:SchoolNow
CALSCALE:GREGORIAN
BEGIN:VEVENT
UID:fdacbc5e-5658-11ee-9e6d-0a58a9feac02
DTSTAMP:20230918T192430Z
SUMMARY:Science Club
LOCATION:APMS A132
URL;VALUE=URI:https://www.arbor145.org/apms/calendar/4754939/science-club
DTSTART:20240213T203000Z
DTEND:20240213T211500Z
END:VEVENT
END:VCALENDAR
