BEGIN:VCALENDAR
VERSION:2.0
PRODID:SchoolNow
CALSCALE:GREGORIAN
BEGIN:VEVENT
UID:16357a9a-5659-11ee-bc80-0a58a9feac02
DTSTAMP:20230918T192511Z
SUMMARY:Science Club
LOCATION:APMS A132
URL;VALUE=URI:https://www.arbor145.org/apms/calendar/4754940/science-club
DTSTART:20240227T203000Z
DTEND:20240227T211500Z
END:VEVENT
END:VCALENDAR
